{
 "currentVersion": 11.5,
 "cimVersion": "3.5.0",
 "serviceDescription": "Aerial2012",
 "mapName": "Aerial_2014",
 "description": "Aerial2014",
 "copyrightText": "",
 "supportsDynamicLayers": false,
 "layers": [
  {
   "id": 0,
   "name": "Poway Municipal Boundary",
   "parentLayerId": -1,
   "defaultVisibility": true,
   "subLayerIds": null,
   "minScale": 0,
   "maxScale": 0,
   "type": "Feature Layer",
   "geometryType": "esriGeometryPolygon",
   "supportsDynamicLegends": true
  }
 ],
 "tables": [],
 "spatialReference": {
  "wkid": 102646,
  "latestWkid": 2230,
  "xyTolerance": 0.0032808333333333335,
  "zTolerance": 2,
  "mTolerance": 2,
  "falseX": -118608900,
  "falseY": -91259500,
  "xyUnits": 3.597970630767777E7,
  "falseZ": 0,
  "zUnits": 1,
  "falseM": -100000,
  "mUnits": 10000
 },
 "singleFusedMapCache": true,
 "tileInfo": {
  "rows": 256,
  "cols": 256,
  "dpi": 96,
  "format": "MIXED",
  "compressionQuality": 75,
  "origin": {
   "x": -118608900,
   "y": 1.5908159999999997E8
  },
  "spatialReference": {
   "wkid": 102646,
   "latestWkid": 2230,
   "xyTolerance": 2.5600000023842217E-4,
   "zTolerance": 2.0E-5,
   "mTolerance": 0.001,
   "falseX": -118608900,
   "falseY": -91259500,
   "xyUnits": 3.597970630767777E7,
   "falseZ": 0,
   "zUnits": 100000,
   "falseM": -100000,
   "mUnits": 10000
  },
  "lods": [
   {
    "level": 0,
    "resolution": 250.7769097222222,
    "scale": 288895
   },
   {
    "level": 1,
    "resolution": 125.38888888888889,
    "scale": 144448
   },
   {
    "level": 2,
    "resolution": 62.69444444444444,
    "scale": 72224
   },
   {
    "level": 3,
    "resolution": 31.34722222222222,
    "scale": 36112
   },
   {
    "level": 4,
    "resolution": 15.67361111111111,
    "scale": 18056
   },
   {
    "level": 5,
    "resolution": 7.836805555555555,
    "scale": 9028
   },
   {
    "level": 6,
    "resolution": 3.9184027777777777,
    "scale": 4514
   },
   {
    "level": 7,
    "resolution": 1.9592013888888888,
    "scale": 2257
   },
   {
    "level": 8,
    "resolution": 0.9791666666666666,
    "scale": 1128
   },
   {
    "level": 9,
    "resolution": 0.4895833333333333,
    "scale": 564
   },
   {
    "level": 10,
    "resolution": 0.24479166666666666,
    "scale": 282
   },
   {
    "level": 11,
    "resolution": 0.12239583333333333,
    "scale": 141
   },
   {
    "level": 12,
    "resolution": 0.061197916666666664,
    "scale": 70.5
   }
  ]
 },
 "storageInfo": {
  "storageFormat": "esriMapCacheStorageModeCompactV2",
  "packetSize": 128
 },
 "initialExtent": {
  "xmin": 6272803.993222575,
  "ymin": 1881447.3297485057,
  "xmax": 6382017.442177621,
  "ymax": 2003030.5497855851,
  "spatialReference": {
   "wkid": 102646,
   "latestWkid": 2230,
   "xyTolerance": 0.0032808333333333335,
   "zTolerance": 2,
   "mTolerance": 2,
   "falseX": -118608900,
   "falseY": -91259500,
   "xyUnits": 3.597970630767777E7,
   "falseZ": 0,
   "zUnits": 1,
   "falseM": -100000,
   "mUnits": 10000
  }
 },
 "fullExtent": {
  "xmin": 6272803.993222575,
  "ymin": 1889199.5724788893,
  "xmax": 6382017.442177621,
  "ymax": 1995278.3070552016,
  "spatialReference": {
   "wkid": 102646,
   "latestWkid": 2230,
   "xyTolerance": 0.0032808333333333335,
   "zTolerance": 2,
   "mTolerance": 2,
   "falseX": -118608900,
   "falseY": -91259500,
   "xyUnits": 3.597970630767777E7,
   "falseZ": 0,
   "zUnits": 1,
   "falseM": -100000,
   "mUnits": 10000
  }
 },
 "datesInUnknownTimezone": false,
 "minScale": 288895,
 "maxScale": 70.5,
 "minLOD": 0,
 "maxLOD": 12,
 "units": "esriFeet",
 "supportedImageFormatTypes": "PNG32,PNG24,PNG,JPG,DIB,TIFF,EMF,PS,PDF,GIF,SVG,SVGZ,BMP",
 "documentInfo": {
  "Title": "YLWD_Water_Pilot_Phase6",
  "Author": "",
  "Comments": "Aerial2014",
  "Subject": "Aerial 2014",
  "Category": "",
  "Version": "2.9.0",
  "AntialiasingMode": "Fast",
  "TextAntialiasingMode": "Force",
  "Keywords": "Aerial 2014"
 },
 "supportsQueryDomains": true,
 "capabilities": "Map",
 "supportedQueryFormats": "JSON, geoJSON, PBF",
 "hasVersionedData": true,
 "exportTilesAllowed": false,
 "referenceScale": 0.0,
 "datumTransformations": [
  {
   "geoTransforms": [
    {
     "wkid": 108001,
     "latestWkid": 1241,
     "transformForward": true,
     "name": "NAD_1927_To_NAD_1983_NADCON"
    }
   ]
  },
  {
   "geoTransforms": [
    {
     "wkid": 108001,
     "latestWkid": 1241,
     "transformForward": false,
     "name": "NAD_1927_To_NAD_1983_NADCON"
    }
   ]
  }
 ],
 "supportsDatumTransformation": true,
 "archivingInfo": {
  "supportsHistoricMoment": false
 },
 "supportsClipping": true,
 "supportsSpatialFilter": true,
 "supportsTimeRelation": true,
 "supportsQueryDataElements": true,
 "mapUnits": {
  "uwkid": 9003
 },
 "maxSelectionCount": 2000,
 "maxRecordCount": 1000,
 "maxImageHeight": 4096,
 "maxImageWidth": 4096,
 "supportedExtensions": "",
 "resampling": true
}
